BEGIN:VCALENDAR
VERSION:2.0
PRODID:-//hacksw/handcal//NONSGML v1.0//EN
BEGIN:VEVENT
SUMMARY:Meeting Penta lancers
UID:b0746d76-d6a0-4db1-96f0-b7c8c3c6cc15
DTSTART:20260829T220000Z
DTEND:20260830T220000Z
LOCATION:Localisation   
CATEGORIES:Sportif
STATUS:
URL;VALUE=URI:https://www.esmathle.fr/evenements/2026/08/30/meeting-penta-lancers-2437963
END:VEVENT
END:VCALENDAR
