BEGIN:VCALENDAR
VERSION:2.0
PRODID:-//hacksw/handcal//NONSGML v1.0//EN
BEGIN:VEVENT
SUMMARY:France Avenir
UID:1cb1d770-329d-4392-9035-bf19fa831017
DTSTART:20260715T220000Z
DTEND:20260716T220000Z
LOCATION:Localisation   
CATEGORIES:Sportif
STATUS:
URL;VALUE=URI:https://www.esmathle.fr/evenements/2026/07/16/france-avenir-2437962
END:VEVENT
END:VCALENDAR
