BEGIN:VCALENDAR
VERSION:2.0
PRODID:-//hacksw/handcal//NONSGML v1.0//EN
BEGIN:VEVENT
SUMMARY:Pre France 4 ligues
UID:c8e566da-a7c4-4b4e-930b-caef5248f39f
DTSTART:20260703T220000Z
DTEND:20260705T220000Z
LOCATION:Localisation   
CATEGORIES:Sportif
STATUS:
URL;VALUE=URI:https://www.esmathle.fr/evenements/2026/07/04/pre-france-4-ligues-2437961
END:VEVENT
END:VCALENDAR
